BEGIN:VCALENDAR
VERSION:2.0
PRODID:Events from www.apparelnews.net
X-WR-CALNAME:Events from www.apparelnews.net
X-WR-CALDESC:Events from www.apparelnews.net
BEGIN:VEVENT
SUMMARY:ShanghaiTex
URL;VALUE=URI:http://www.apparelnews.net/events/2017/nov/27/shanghaitex-tba/?et=7892
DTSTART:20171127
DESCRIPTION;ENCODING=QUOTED-PRINTABLE:http://www.shanghaitexonline.com

END:VEVENT
END:VCALENDAR
