BEGIN:VCALENDAR
VERSION:2.0
PRODID:Events from www.apparelnews.net
X-WR-CALNAME:Events from www.apparelnews.net
X-WR-CALDESC:Events from www.apparelnews.net
BEGIN:VEVENT
SUMMARY:Pooltradeshow
URL;VALUE=URI:http://www.apparelnews.net/events/2017/sep/18/pooltrad/?et=10233
DTSTART:20170918
DESCRIPTION;ENCODING=QUOTED-PRINTABLE:http://www.ubmfashion.com

END:VEVENT
END:VCALENDAR
