BEGIN:VCALENDAR
VERSION:2.0
PRODID:Events from www.apparelnews.net
X-WR-CALNAME:Events from www.apparelnews.net
X-WR-CALDESC:Events from www.apparelnews.net
BEGIN:VEVENT
SUMMARY:Supreme Women & Men
URL;VALUE=URI:http://www.apparelnews.net/events/2018/aug/04/supreme-celebration-949ad666-08e226-37c353d6/?et=12925
DTSTART:20180804
DESCRIPTION;ENCODING=QUOTED-PRINTABLE:http://www.munichfashioncompany.com/en/trade-fairs/

END:VEVENT
END:VCALENDAR
