BEGIN:VCALENDAR
VERSION:2.0
PRODID:Events from www.apparelnews.net
X-WR-CALNAME:Events from www.apparelnews.net
X-WR-CALDESC:Events from www.apparelnews.net
BEGIN:VEVENT
SUMMARY:Project\, Project Womens\, Stitch @ Project Womens
URL;VALUE=URI:http://www.apparelnews.net/events/2018/aug/13/project-project-womens-stitch-project-womens/?et=12151
DTSTART:20180813
DESCRIPTION;ENCODING=QUOTED-PRINTABLE:http://www.ubmfashion.com

END:VEVENT
END:VCALENDAR
