BEGIN:VCALENDAR
VERSION:2.0
PRODID:Events from www.apparelnews.net
X-WR-CALNAME:Events from www.apparelnews.net
X-WR-CALDESC:Events from www.apparelnews.net
BEGIN:VEVENT
SUMMARY:STYL/KABO
URL;VALUE=URI:http://www.apparelnews.net/events/2018/aug/18/stylkabo-tba-9d226c18/?et=11615
DTSTART:20180818
DESCRIPTION;ENCODING=QUOTED-PRINTABLE:Exhibiton Centre Brno; http://www.bvv.cz/en/styl-kabo; (312) 781-5180

END:VEVENT
END:VCALENDAR
