BEGIN:VCALENDAR
VERSION:2.0
PRODID:Events from www.apparelnews.net
X-WR-CALNAME:Events from www.apparelnews.net
X-WR-CALDESC:Events from www.apparelnews.net
BEGIN:VEVENT
SUMMARY:Dallas Apparel & Accessories Market
URL;VALUE=URI:http://www.apparelnews.net/events/2018/aug/22/dallas-apparel-accessories-market-f1c5e1ba/?et=11011
DTSTART:20180822
DESCRIPTION;ENCODING=QUOTED-PRINTABLE:http://dallasmarketcenter.com

END:VEVENT
END:VCALENDAR
