BEGIN:VCALENDAR
VERSION:2.0
PRODID:Events from www.apparelnews.net
X-WR-CALNAME:Events from www.apparelnews.net
X-WR-CALDESC:Events from www.apparelnews.net
BEGIN:VEVENT
SUMMARY:Blossom Premiere Vision
URL;VALUE=URI:http://www.apparelnews.net/events/2018/dec/12/blossom-pv-tba-62d3951a-7c5c6e50/?et=13353
DTSTART:20181212
DESCRIPTION;ENCODING=QUOTED-PRINTABLE:www.blossompremierevision.com/en/

END:VEVENT
END:VCALENDAR
