BEGIN:VCALENDAR
VERSION:2.0
PRODID:Events from www.apparelnews.net
X-WR-CALNAME:Events from www.apparelnews.net
X-WR-CALDESC:Events from www.apparelnews.net
BEGIN:VEVENT
SUMMARY:Madridjoya
URL;VALUE=URI:http://www.apparelnews.net/events/2018/feb/03/madridjoya-1629af44/?et=11266
DTSTART:20180203
DESCRIPTION;ENCODING=QUOTED-PRINTABLE:www.ifema.es

END:VEVENT
END:VCALENDAR
