BEGIN:VCALENDAR
VERSION:2.0
PRODID:Events from www.apparelnews.net
X-WR-CALNAME:Events from www.apparelnews.net
X-WR-CALDESC:Events from www.apparelnews.net
BEGIN:VEVENT
SUMMARY:Micam Milano
URL;VALUE=URI:http://www.apparelnews.net/events/2018/feb/12/micam-milano/?et=11255
DTSTART:20180212
DESCRIPTION;ENCODING=QUOTED-PRINTABLE:www.fieramilano.it

END:VEVENT
END:VCALENDAR
