BEGIN:VCALENDAR
VERSION:2.0
PRODID:Events from www.apparelnews.net
X-WR-CALNAME:Events from www.apparelnews.net
X-WR-CALDESC:Events from www.apparelnews.net
BEGIN:VEVENT
SUMMARY:Mipel
URL;VALUE=URI:http://www.apparelnews.net/events/2018/feb/12/mipel-165c9058/?et=11245
DTSTART:20180212
DESCRIPTION;ENCODING=QUOTED-PRINTABLE:www.mipel.it

END:VEVENT
END:VCALENDAR
