BEGIN:VCALENDAR
VERSION:2.0
PRODID:Events from www.apparelnews.net
X-WR-CALNAME:Events from www.apparelnews.net
X-WR-CALDESC:Events from www.apparelnews.net
BEGIN:VEVENT
SUMMARY:Lineapelle Milan
URL;VALUE=URI:http://www.apparelnews.net/events/2018/feb/21/lineapelle-161f36d6/?et=11276
DTSTART:20180221
DESCRIPTION;ENCODING=QUOTED-PRINTABLE:www.lineapelle-fair.it; +39 02 880 7711 A34

END:VEVENT
END:VCALENDAR
