BEGIN:VCALENDAR
VERSION:2.0
PRODID:Events from www.apparelnews.net
X-WR-CALNAME:Events from www.apparelnews.net
X-WR-CALDESC:Events from www.apparelnews.net
BEGIN:VEVENT
SUMMARY:Rocky Mountain Gift Show
URL;VALUE=URI:http://www.apparelnews.net/events/2018/feb/25/rocky-mountain-gift-show-a36e02aa/?et=11523
DTSTART:20180225
DESCRIPTION;ENCODING=QUOTED-PRINTABLE:http://denvermart.com

END:VEVENT
END:VCALENDAR
