BEGIN:VCALENDAR
VERSION:2.0
PRODID:Events from www.apparelnews.net
X-WR-CALNAME:Events from www.apparelnews.net
X-WR-CALDESC:Events from www.apparelnews.net
BEGIN:VEVENT
SUMMARY:TrendSet
URL;VALUE=URI:http://www.apparelnews.net/events/2018/jan/06/trendset-0253ecba/?et=10307
DTSTART:20180106
DESCRIPTION;ENCODING=QUOTED-PRINTABLE:http://en.trendset.de

END:VEVENT
END:VCALENDAR
