BEGIN:VCALENDAR
VERSION:2.0
PRODID:Events from www.apparelnews.net
X-WR-CALNAME:Events from www.apparelnews.net
X-WR-CALDESC:Events from www.apparelnews.net
BEGIN:VEVENT
SUMMARY:Hong Kong Fashion Week
URL;VALUE=URI:http://www.apparelnews.net/events/2018/jan/16/hong-kong-fashion-week-b36023b8/?et=10491
DTSTART:20180116
DESCRIPTION;ENCODING=QUOTED-PRINTABLE:http://www.hktdc.com

END:VEVENT
END:VCALENDAR
