BEGIN:VCALENDAR
VERSION:2.0
PRODID:Events from www.apparelnews.net
X-WR-CALNAME:Events from www.apparelnews.net
X-WR-CALDESC:Events from www.apparelnews.net
BEGIN:VEVENT
SUMMARY:Brand Assembly
URL;VALUE=URI:http://www.apparelnews.net/events/2018/jan/17/brand-assembly-tba-023d511c/?et=12021
DTSTART:20180117
DESCRIPTION;ENCODING=QUOTED-PRINTABLE:Cooper Design Space; info@brandassembly.com

END:VEVENT
END:VCALENDAR
