BEGIN:VCALENDAR
VERSION:2.0
PRODID:Events from www.apparelnews.net
X-WR-CALNAME:Events from www.apparelnews.net
X-WR-CALDESC:Events from www.apparelnews.net
BEGIN:VEVENT
SUMMARY:Greenshowroom Ethical Fashion Show Berlin
URL;VALUE=URI:http://www.apparelnews.net/events/2018/jan/17/greenshowroom-ethical-fashion-show-/?et=10593
DTSTART:20180117
DESCRIPTION;ENCODING=QUOTED-PRINTABLE:www.messefrankfurt.com

END:VEVENT
END:VCALENDAR
