BEGIN:VCALENDAR
VERSION:2.0
PRODID:Events from www.apparelnews.net
X-WR-CALNAME:Events from www.apparelnews.net
X-WR-CALDESC:Events from www.apparelnews.net
BEGIN:VEVENT
SUMMARY:Mercedes-Benz Fashion Week Madrid
URL;VALUE=URI:http://www.apparelnews.net/events/2018/jan/25/mercedes-benz-fashion-week-madrid-162f4bde/?et=11258
DTSTART:20180125
DESCRIPTION;ENCODING=QUOTED-PRINTABLE:www.ifema.es

END:VEVENT
END:VCALENDAR
