BEGIN:VCALENDAR
VERSION:2.0
PRODID:Events from www.apparelnews.net
X-WR-CALNAME:Events from www.apparelnews.net
X-WR-CALDESC:Events from www.apparelnews.net
BEGIN:VEVENT
SUMMARY:SIA Snow Show & Sourcing Show
URL;VALUE=URI:http://www.apparelnews.net/events/2018/jan/28/sia-snow-show-sourcing-show/?et=10709
DTSTART:20180128
DESCRIPTION;ENCODING=QUOTED-PRINTABLE:http://www.snowsports.org/snow-show/

END:VEVENT
END:VCALENDAR
