BEGIN:VCALENDAR
VERSION:2.0
PRODID:Events from www.apparelnews.net
X-WR-CALNAME:Events from www.apparelnews.net
X-WR-CALDESC:Events from www.apparelnews.net
BEGIN:VEVENT
SUMMARY:Greenshowroom Ethical Fashion Show
URL;VALUE=URI:http://www.apparelnews.net/events/2018/jul/03/greenshowroom-ethical-fashion-show/?et=12312
DTSTART:20180703
DESCRIPTION;ENCODING=QUOTED-PRINTABLE:http://www.greenshowroom.com/en/

END:VEVENT
END:VCALENDAR
