BEGIN:VCALENDAR
VERSION:2.0
PRODID:Events from www.apparelnews.net
X-WR-CALNAME:Events from www.apparelnews.net
X-WR-CALDESC:Events from www.apparelnews.net
BEGIN:VEVENT
SUMMARY:Blossom Premiere Vision
URL;VALUE=URI:http://www.apparelnews.net/events/2018/jul/04/blossom-pv-tba-62d3951a/?et=12060
DTSTART:20180704
DESCRIPTION;ENCODING=QUOTED-PRINTABLE:www.blossompremierevision.com/en/

END:VEVENT
END:VCALENDAR
