BEGIN:VCALENDAR
VERSION:2.0
PRODID:Events from www.apparelnews.net
X-WR-CALNAME:Events from www.apparelnews.net
X-WR-CALDESC:Events from www.apparelnews.net
BEGIN:VEVENT
SUMMARY:Texworld USA
URL;VALUE=URI:http://www.apparelnews.net/events/2018/jul/23/texworld-usa-912cc6c8-d1fba580/?et=12115
DTSTART:20180723
DESCRIPTION;ENCODING=QUOTED-PRINTABLE:www.messefrankfurt.com; (770) 984-8016

END:VEVENT
END:VCALENDAR
