BEGIN:VCALENDAR
VERSION:2.0
PRODID:Events from www.apparelnews.net
X-WR-CALNAME:Events from www.apparelnews.net
X-WR-CALDESC:Events from www.apparelnews.net
BEGIN:VEVENT
SUMMARY:NY Women's
URL;VALUE=URI:http://www.apparelnews.net/events/2018/jun/10/coterie-tba-ec107e24-f5a95d28/?et=13016
DTSTART:20180610
DESCRIPTION;ENCODING=QUOTED-PRINTABLE:http://www.ubmfashion.com/shows/coterie

END:VEVENT
END:VCALENDAR
