BEGIN:VCALENDAR
VERSION:2.0
PRODID:Events from www.apparelnews.net
X-WR-CALNAME:Events from www.apparelnews.net
X-WR-CALDESC:Events from www.apparelnews.net
BEGIN:VEVENT
SUMMARY:[Pre] Coterie
URL;VALUE=URI:http://www.apparelnews.net/events/2018/jun/12/coterie-c0b48c28-6c334126/?et=11946
DTSTART:20180612
DESCRIPTION;ENCODING=QUOTED-PRINTABLE:www.ubmfashion.com

END:VEVENT
END:VCALENDAR
