BEGIN:VCALENDAR
VERSION:2.0
PRODID:Events from www.apparelnews.net
X-WR-CALNAME:Events from www.apparelnews.net
X-WR-CALDESC:Events from www.apparelnews.net
BEGIN:VEVENT
SUMMARY:Man-Woman Paris\, Man Paris
URL;VALUE=URI:http://www.apparelnews.net/events/2018/jun/22/amazon-fashion-week-tokyo-08a444be--c9f9d4d4/?et=12858
DTSTART:20180622
DESCRIPTION;ENCODING=QUOTED-PRINTABLE:https://www.manwomanshows.com/

END:VEVENT
END:VCALENDAR
