BEGIN:VCALENDAR
VERSION:2.0
PRODID:Events from www.apparelnews.net
X-WR-CALNAME:Events from www.apparelnews.net
X-WR-CALDESC:Events from www.apparelnews.net
BEGIN:VEVENT
SUMMARY:Metropolitan New York Shoe\, Footwear & Accessories Marketplace
URL;VALUE=URI:http://www.apparelnews.net/events/2018/jun/26/metropolitan-new-york-shoe-footwear-7c8ad2a8/?et=11889
DTSTART:20180626
DESCRIPTION;ENCODING=QUOTED-PRINTABLE:marketplaceny.com

END:VEVENT
END:VCALENDAR
