BEGIN:VCALENDAR
VERSION:2.0
PRODID:Events from www.apparelnews.net
X-WR-CALNAME:Events from www.apparelnews.net
X-WR-CALDESC:Events from www.apparelnews.net
BEGIN:VEVENT
SUMMARY:National Bridal Market Chicago
URL;VALUE=URI:http://www.apparelnews.net/events/2018/mar/19/national-bridal-market-chicago/?et=10945
DTSTART:20180319
DESCRIPTION;ENCODING=QUOTED-PRINTABLE:http://www.nationalbridalmarket.com/dates/

END:VEVENT
END:VCALENDAR
