BEGIN:VCALENDAR
VERSION:2.0
PRODID:Events from www.apparelnews.net
X-WR-CALNAME:Events from www.apparelnews.net
X-WR-CALDESC:Events from www.apparelnews.net
BEGIN:VEVENT
SUMMARY:Make It British (Meet the Manufacturer)
URL;VALUE=URI:http://www.apparelnews.net/events/2018/may/24/make-it-british-meet-manufacturer/?et=12904
DTSTART:20180524
DESCRIPTION;ENCODING=QUOTED-PRINTABLE:https://makeitbritishlive.com/

END:VEVENT
END:VCALENDAR
