BEGIN:VCALENDAR
VERSION:2.0
PRODID:Events from www.apparelnews.net
X-WR-CALNAME:Events from www.apparelnews.net
X-WR-CALDESC:Events from www.apparelnews.net
BEGIN:VEVENT
SUMMARY:Brand Assembly
URL;VALUE=URI:http://www.apparelnews.net/events/2018/oct/25/brand-assembly-tba-72c885fc-9cf5a7a-2cda7b54/?et=13144
DTSTART:20181025
DESCRIPTION;ENCODING=QUOTED-PRINTABLE:http://www.brandassembly.com

END:VEVENT
END:VCALENDAR
