BEGIN:VCALENDAR
VERSION:2.0
PRODID:Events from www.apparelnews.net
X-WR-CALNAME:Events from www.apparelnews.net
X-WR-CALDESC:Events from www.apparelnews.net
BEGIN:VEVENT
SUMMARY:Kidsworld
URL;VALUE=URI:http://www.apparelnews.net/events/2018/oct/27/kidsworld-f1f92e3a/?et=11094
DTSTART:20181027
DESCRIPTION;ENCODING=QUOTED-PRINTABLE:http://dallasmarketcenter.com

END:VEVENT
END:VCALENDAR
