BEGIN:VCALENDAR
VERSION:2.0
PRODID:Events from www.apparelnews.net
X-WR-CALNAME:Events from www.apparelnews.net
X-WR-CALDESC:Events from www.apparelnews.net
BEGIN:VEVENT
SUMMARY:Munich Fabric Start
URL;VALUE=URI:http://www.apparelnews.net/events/2018/sep/04/munich-fabric-start-tba-9cbc3f42/?et=11991
DTSTART:20180904
DESCRIPTION;ENCODING=QUOTED-PRINTABLE:http://www.munichfabricstart.com/ Munich\, Germany

END:VEVENT
END:VCALENDAR
