BEGIN:VCALENDAR
VERSION:2.0
PRODID:Events from www.apparelnews.net
X-WR-CALNAME:Events from www.apparelnews.net
X-WR-CALDESC:Events from www.apparelnews.net
BEGIN:VEVENT
SUMMARY:The NBM Show Indianapolis
URL;VALUE=URI:http://www.apparelnews.net/events/2018/sep/13/the-nbm-show-indianapolis/?et=11751
DTSTART:20180913
DESCRIPTION;ENCODING=QUOTED-PRINTABLE:http://thenbmshow.com/

END:VEVENT
END:VCALENDAR
