BEGIN:VCALENDAR
VERSION:2.0
PRODID:Events from www.apparelnews.net
X-WR-CALNAME:Events from www.apparelnews.net
X-WR-CALDESC:Events from www.apparelnews.net
BEGIN:VEVENT
SUMMARY:Moda
URL;VALUE=URI:http://www.apparelnews.net/events/2018/sep/17/moda-tba-7340d4b2/?et=11938
DTSTART:20180917
DESCRIPTION;ENCODING=QUOTED-PRINTABLE:http://www.ubmfashion.com/browse

END:VEVENT
END:VCALENDAR
