BEGIN:VCALENDAR
VERSION:2.0
PRODID:Events from www.apparelnews.net
X-WR-CALNAME:Events from www.apparelnews.net
X-WR-CALDESC:Events from www.apparelnews.net
BEGIN:VEVENT
SUMMARY:Stylemax
URL;VALUE=URI:http://www.apparelnews.net/events/2019/apr/09/stylemax-91283bc6-39b61630-4e354aa4/?et=13707
DTSTART:20190409
DESCRIPTION;ENCODING=QUOTED-PRINTABLE:www.mmart.com; (800) 677-MART

END:VEVENT
END:VCALENDAR
