BEGIN:VCALENDAR
VERSION:2.0
PRODID:Events from www.apparelnews.net
X-WR-CALNAME:Events from www.apparelnews.net
X-WR-CALDESC:Events from www.apparelnews.net
BEGIN:VEVENT
SUMMARY:Hong Kong Gifts & Premium Fair
URL;VALUE=URI:http://www.apparelnews.net/events/2019/apr/30/hong-kong-gifts-premium-fair-4cb618-e3728c50/?et=13378
DTSTART:20190430
DESCRIPTION;ENCODING=QUOTED-PRINTABLE:http://www.hktdc.com

END:VEVENT
END:VCALENDAR
