BEGIN:VCALENDAR
VERSION:2.0
PRODID:Events from www.apparelnews.net
X-WR-CALNAME:Events from www.apparelnews.net
X-WR-CALDESC:Events from www.apparelnews.net
BEGIN:VEVENT
SUMMARY:Accessories The Show
URL;VALUE=URI:http://www.apparelnews.net/events/2019/aug/04/accessories-the-show-tba-f1c4bec8-7228a7f2/?et=14675
DTSTART:20190804
DESCRIPTION;ENCODING=QUOTED-PRINTABLE:http://www.ubmfashion.com/browse

END:VEVENT
END:VCALENDAR
