BEGIN:VCALENDAR
VERSION:2.0
PRODID:Events from www.apparelnews.net
X-WR-CALNAME:Events from www.apparelnews.net
X-WR-CALDESC:Events from www.apparelnews.net
BEGIN:VEVENT
SUMMARY:Denver Apparel & Accessories Market
URL;VALUE=URI:http://www.apparelnews.net/events/2019/aug/26/denver-apparel-accessories-market-c-5ad1c1c2/?et=13810
DTSTART:20190826
DESCRIPTION;ENCODING=QUOTED-PRINTABLE:http://denvermart.com

END:VEVENT
END:VCALENDAR
