BEGIN:VCALENDAR
VERSION:2.0
PRODID:Events from www.apparelnews.net
X-WR-CALNAME:Events from www.apparelnews.net
X-WR-CALDESC:Events from www.apparelnews.net
BEGIN:VEVENT
SUMMARY:Brazil International Yarn & Fabric Show
URL;VALUE=URI:http://www.apparelnews.net/events/2019/aug/27/international-yarn-fabric-show-tba--df0222b6/?et=15134
DTSTART:20190827
DESCRIPTION;ENCODING=QUOTED-PRINTABLE:https://www.cems-yarnandfabric.com/bifs/

END:VEVENT
END:VCALENDAR
