BEGIN:VCALENDAR
VERSION:2.0
PRODID:Events from www.apparelnews.net
X-WR-CALNAME:Events from www.apparelnews.net
X-WR-CALDESC:Events from www.apparelnews.net
BEGIN:VEVENT
SUMMARY:Asian E-tailing Summit
URL;VALUE=URI:http://www.apparelnews.net/events/2019/dec/05/asian-licensing-conference-857aa5f2-44552280/?et=16004
DTSTART:20191205
DESCRIPTION;ENCODING=QUOTED-PRINTABLE:http://www.hktdc.com

END:VEVENT
END:VCALENDAR
