BEGIN:VCALENDAR
VERSION:2.0
PRODID:Events from www.apparelnews.net
X-WR-CALNAME:Events from www.apparelnews.net
X-WR-CALDESC:Events from www.apparelnews.net
BEGIN:VEVENT
SUMMARY:Edmonton Footwear & Accessory Buying Market
URL;VALUE=URI:http://www.apparelnews.net/events/2019/feb/03/edmonton-footwear-accessory-buying--fd144374/?et=13065
DTSTART:20190203
DESCRIPTION;ENCODING=QUOTED-PRINTABLE:www.wcsa.ca

END:VEVENT
END:VCALENDAR
