BEGIN:VCALENDAR
VERSION:2.0
PRODID:Events from www.apparelnews.net
X-WR-CALNAME:Events from www.apparelnews.net
X-WR-CALDESC:Events from www.apparelnews.net
BEGIN:VEVENT
SUMMARY:Agenda Las Vegas
URL;VALUE=URI:http://www.apparelnews.net/events/2019/feb/07/agenda-a3286380-b8be1f8e/?et=14340
DTSTART:20190207
DESCRIPTION;ENCODING=QUOTED-PRINTABLE:http://www.agendashow.com

END:VEVENT
END:VCALENDAR
