BEGIN:VCALENDAR
VERSION:2.0
PRODID:Events from www.apparelnews.net
X-WR-CALNAME:Events from www.apparelnews.net
X-WR-CALDESC:Events from www.apparelnews.net
BEGIN:VEVENT
SUMMARY:Woman New York
URL;VALUE=URI:http://www.apparelnews.net/events/2019/feb/23/amazon-fashion-week-tokyo-08a444be--f55da828/?et=14482
DTSTART:20190223
DESCRIPTION;ENCODING=QUOTED-PRINTABLE:https://www.manwomanshows.com/

END:VEVENT
END:VCALENDAR
