BEGIN:VCALENDAR
VERSION:2.0
PRODID:Events from www.apparelnews.net
X-WR-CALNAME:Events from www.apparelnews.net
X-WR-CALDESC:Events from www.apparelnews.net
BEGIN:VEVENT
SUMMARY:NY Women's
URL;VALUE=URI:http://www.apparelnews.net/events/2019/feb/25/coterie-tba-ec107e24-f5a95d28-a20b58cc/?et=14341
DTSTART:20190225
DESCRIPTION;ENCODING=QUOTED-PRINTABLE:http://www.ubmfashion.com

END:VEVENT
END:VCALENDAR
