BEGIN:VCALENDAR
VERSION:2.0
PRODID:Events from www.apparelnews.net
X-WR-CALNAME:Events from www.apparelnews.net
X-WR-CALDESC:Events from www.apparelnews.net
BEGIN:VEVENT
SUMMARY:Sole Commerce
URL;VALUE=URI:http://www.apparelnews.net/events/2019/feb/25/fame-b30fdca0-06ee39c4-3cfda900-dc64e294/?et=14397
DTSTART:20190225
DESCRIPTION;ENCODING=QUOTED-PRINTABLE:ubmfashion.com

END:VEVENT
END:VCALENDAR
