BEGIN:VCALENDAR
VERSION:2.0
PRODID:Events from www.apparelnews.net
X-WR-CALNAME:Events from www.apparelnews.net
X-WR-CALDESC:Events from www.apparelnews.net
BEGIN:VEVENT
SUMMARY:Fame
URL;VALUE=URI:http://www.apparelnews.net/events/2019/feb/25/fame-tba-7337c03e-49a8ec0e-6cc066d4-a7eaeebe/?et=14393
DTSTART:20190225
DESCRIPTION;ENCODING=QUOTED-PRINTABLE:http://www.ubmfashion.com/shows/fame-1

END:VEVENT
END:VCALENDAR
