BEGIN:VCALENDAR
VERSION:2.0
PRODID:Events from www.apparelnews.net
X-WR-CALNAME:Events from www.apparelnews.net
X-WR-CALDESC:Events from www.apparelnews.net
BEGIN:VEVENT
SUMMARY:Children's Club
URL;VALUE=URI:http://www.apparelnews.net/events/2019/jan/06/fame-b30fdca0-06ee39c4-3cfda900-46d-f80179ba/?et=14412
DTSTART:20190106
DESCRIPTION;ENCODING=QUOTED-PRINTABLE:https://www.ubmfashion.com/shows/childrensclub-1

END:VEVENT
END:VCALENDAR
