BEGIN:VCALENDAR
VERSION:2.0
PRODID:Events from www.apparelnews.net
X-WR-CALNAME:Events from www.apparelnews.net
X-WR-CALDESC:Events from www.apparelnews.net
BEGIN:VEVENT
SUMMARY:London Textile Fair
URL;VALUE=URI:http://www.apparelnews.net/events/2019/jan/09/london-textile-fair-tba-34c70c92-d0a20b56/?et=13403
DTSTART:20190109
DESCRIPTION;ENCODING=QUOTED-PRINTABLE:http://thelondontextilefair.co.uk

END:VEVENT
END:VCALENDAR
