BEGIN:VCALENDAR
VERSION:2.0
PRODID:Events from www.apparelnews.net
X-WR-CALNAME:Events from www.apparelnews.net
X-WR-CALDESC:Events from www.apparelnews.net
BEGIN:VEVENT
SUMMARY:Hong Kong Fashion Week
URL;VALUE=URI:http://www.apparelnews.net/events/2019/jan/16/hong-kong-fashion-week-4cb21a36-93c0e1f2/?et=12354
DTSTART:20190116
DESCRIPTION;ENCODING=QUOTED-PRINTABLE:http://www.hktdc.com

END:VEVENT
END:VCALENDAR
