BEGIN:VCALENDAR
VERSION:2.0
PRODID:Events from www.apparelnews.net
X-WR-CALNAME:Events from www.apparelnews.net
X-WR-CALDESC:Events from www.apparelnews.net
BEGIN:VEVENT
SUMMARY:MosShoes
URL;VALUE=URI:http://www.apparelnews.net/events/2019/jan/17/mosshoes-90e998bc-4f66503a/?et=14472
DTSTART:20190117
DESCRIPTION;ENCODING=QUOTED-PRINTABLE:www.mosshoes.com; (495) 781-3411

END:VEVENT
END:VCALENDAR
