BEGIN:VCALENDAR
VERSION:2.0
PRODID:Events from www.apparelnews.net
X-WR-CALNAME:Events from www.apparelnews.net
X-WR-CALDESC:Events from www.apparelnews.net
BEGIN:VEVENT
SUMMARY:Dye + Chem Bangladesh
URL;VALUE=URI:http://www.apparelnews.net/events/2019/jan/26/dye-chem-bangladesh-4c8d530e-6e3c21c2/?et=13083
DTSTART:20190126
DESCRIPTION;ENCODING=QUOTED-PRINTABLE:www.cems-dyechem.com

END:VEVENT
END:VCALENDAR
