BEGIN:VCALENDAR
VERSION:2.0
PRODID:Events from www.apparelnews.net
X-WR-CALNAME:Events from www.apparelnews.net
X-WR-CALDESC:Events from www.apparelnews.net
BEGIN:VEVENT
SUMMARY:Lakme Fashion Week
URL;VALUE=URI:http://www.apparelnews.net/events/2019/jan/29/lakme-fashion-week-tba-731946b8-952-c570279c/?et=13634
DTSTART:20190129
DESCRIPTION;ENCODING=QUOTED-PRINTABLE:www.lakmefashionweek.co.in

END:VEVENT
END:VCALENDAR
